BEGIN:VCALENDAR
VERSION:2.0
PRODID:-//WhenKickoff//Match Reminder//EN
BEGIN:VEVENT
UID:wk-541094-15@whenkickoff.com
DTSTAMP:20260420T024030Z
DTSTART:20260214T150000Z
DTEND:20260214T170000Z
SUMMARY:Queens Park Rangers FC vs Blackburn Rovers FC
DESCRIPTION:WhenKickoff reminder for Queens Park Rangers FC vs Blackburn Rovers FC
URL:https://whenkickoff.com/en/match/queens-park-rangers-fc-vs-blackburn-rovers-fc-541094/
BEGIN:VALARM
TRIGGER:-PT15M
ACTION:DISPLAY
DESCRIPTION:Match starts soon
END:VALARM
END:VEVENT
END:VCALENDAR
