BEGIN:VCALENDAR
VERSION:2.0
PRODID:-//WhenKickoff//Match Reminder//EN
BEGIN:VEVENT
UID:wk-541093-15@whenkickoff.com
DTSTAMP:20260420T024031Z
DTSTART:20260214T150000Z
DTEND:20260214T170000Z
SUMMARY:Preston North End FC vs Watford FC
DESCRIPTION:WhenKickoff reminder for Preston North End FC vs Watford FC
URL:https://whenkickoff.com/en/match/preston-north-end-fc-vs-watford-fc-541093/
BEGIN:VALARM
TRIGGER:-PT15M
ACTION:DISPLAY
DESCRIPTION:Match starts soon
END:VALARM
END:VEVENT
END:VCALENDAR
