BEGIN:VCALENDAR
VERSION:2.0
PRODID:-//WhenKickoff//Match Reminder//EN
BEGIN:VEVENT
UID:wk-541092-15@whenkickoff.com
DTSTAMP:20260420T024032Z
DTSTART:20260214T150000Z
DTEND:20260214T170000Z
SUMMARY:Portsmouth FC vs Sheffield United FC
DESCRIPTION:WhenKickoff reminder for Portsmouth FC vs Sheffield United FC
URL:https://whenkickoff.com/en/match/portsmouth-fc-vs-sheffield-united-fc-541092/
BEGIN:VALARM
TRIGGER:-PT15M
ACTION:DISPLAY
DESCRIPTION:Match starts soon
END:VALARM
END:VEVENT
END:VCALENDAR
