BEGIN:VCALENDAR
VERSION:2.0
PRODID:-//WhenKickoff//Match Reminder//EN
BEGIN:VEVENT
UID:wk-541091-15@whenkickoff.com
DTSTAMP:20260420T081619Z
DTSTART:20260210T194500Z
DTEND:20260210T214500Z
SUMMARY:Oxford United FC vs Norwich City FC
DESCRIPTION:WhenKickoff reminder for Oxford United FC vs Norwich City FC
URL:https://whenkickoff.com/en/match/oxford-united-fc-vs-norwich-city-fc-541091/
BEGIN:VALARM
TRIGGER:-PT15M
ACTION:DISPLAY
DESCRIPTION:Match starts soon
END:VALARM
END:VEVENT
END:VCALENDAR
