BEGIN:VCALENDAR
VERSION:2.0
PRODID:-//WhenKickoff//Match Reminder//EN
BEGIN:VEVENT
UID:wk-541090-15@whenkickoff.com
DTSTAMP:20260420T081643Z
DTSTART:20260210T194500Z
DTEND:20260210T214500Z
SUMMARY:Leicester City FC vs Southampton FC
DESCRIPTION:WhenKickoff reminder for Leicester City FC vs Southampton FC
URL:https://whenkickoff.com/en/match/leicester-city-fc-vs-southampton-fc-541090/
BEGIN:VALARM
TRIGGER:-PT15M
ACTION:DISPLAY
DESCRIPTION:Match starts soon
END:VALARM
END:VEVENT
END:VCALENDAR
