BEGIN:VCALENDAR
VERSION:2.0
PRODID:-//WhenKickoff//Match Reminder//EN
BEGIN:VEVENT
UID:wk-541089-15@whenkickoff.com
DTSTAMP:20260419T234146Z
DTSTART:20260303T194500Z
DTEND:20260303T214500Z
SUMMARY:Ipswich Town FC vs Hull City AFC
DESCRIPTION:WhenKickoff reminder for Ipswich Town FC vs Hull City AFC
URL:https://whenkickoff.com/en/match/ipswich-town-fc-vs-hull-city-afc-541089/
BEGIN:VALARM
TRIGGER:-PT15M
ACTION:DISPLAY
DESCRIPTION:Match starts soon
END:VALARM
END:VEVENT
END:VCALENDAR
