BEGIN:VCALENDAR
VERSION:2.0
PRODID:-//WhenKickoff//Match Reminder//EN
BEGIN:VEVENT
UID:wk-541087-15@whenkickoff.com
DTSTAMP:20260420T023946Z
DTSTART:20260216T200000Z
DTEND:20260216T220000Z
SUMMARY:Coventry City FC vs Middlesbrough FC
DESCRIPTION:WhenKickoff reminder for Coventry City FC vs Middlesbrough FC
URL:https://whenkickoff.com/en/match/coventry-city-fc-vs-middlesbrough-fc-541087/
BEGIN:VALARM
TRIGGER:-PT15M
ACTION:DISPLAY
DESCRIPTION:Match starts soon
END:VALARM
END:VEVENT
END:VCALENDAR
