BEGIN:VCALENDAR
VERSION:2.0
PRODID:-//WhenKickoff//Match Reminder//EN
BEGIN:VEVENT
UID:wk-541086-15@whenkickoff.com
DTSTAMP:20260420T061320Z
DTSTART:20260211T194500Z
DTEND:20260211T214500Z
SUMMARY:Charlton Athletic FC vs Stoke City FC
DESCRIPTION:WhenKickoff reminder for Charlton Athletic FC vs Stoke City FC
URL:https://whenkickoff.com/en/match/charlton-athletic-fc-vs-stoke-city-fc-541086/
BEGIN:VALARM
TRIGGER:-PT15M
ACTION:DISPLAY
DESCRIPTION:Match starts soon
END:VALARM
END:VEVENT
END:VCALENDAR
