BEGIN:VCALENDAR
VERSION:2.0
PRODID:-//WhenKickoff//Match Reminder//EN
BEGIN:VEVENT
UID:wk-541084-15@whenkickoff.com
DTSTAMP:20260420T081643Z
DTSTART:20260210T200000Z
DTEND:20260210T220000Z
SUMMARY:Birmingham City FC vs West Bromwich Albion FC
DESCRIPTION:WhenKickoff reminder for Birmingham City FC vs West Bromwich Albion FC
URL:https://whenkickoff.com/en/match/birmingham-city-fc-vs-west-bromwich-albion-fc-541084/
BEGIN:VALARM
TRIGGER:-PT15M
ACTION:DISPLAY
DESCRIPTION:Match starts soon
END:VALARM
END:VEVENT
END:VCALENDAR
