BEGIN:VCALENDAR
VERSION:2.0
PRODID:-//WhenKickoff//Match Reminder//EN
BEGIN:VEVENT
UID:wk-541083-15@whenkickoff.com
DTSTAMP:20260420T095831Z
DTSTART:20260207T150100Z
DTEND:20260207T170100Z
SUMMARY:Wrexham AFC vs Millwall FC
DESCRIPTION:WhenKickoff reminder for Wrexham AFC vs Millwall FC
URL:https://whenkickoff.com/en/match/wrexham-afc-vs-millwall-fc-541083/
BEGIN:VALARM
TRIGGER:-PT15M
ACTION:DISPLAY
DESCRIPTION:Match starts soon
END:VALARM
END:VEVENT
END:VCALENDAR
