BEGIN:VCALENDAR
VERSION:2.0
PRODID:-//WhenKickoff//Match Reminder//EN
BEGIN:VEVENT
UID:wk-541081-15@whenkickoff.com
DTSTAMP:20260420T081644Z
DTSTART:20260208T120100Z
DTEND:20260208T140100Z
SUMMARY:Swansea City AFC vs Sheffield Wednesday FC
DESCRIPTION:WhenKickoff reminder for Swansea City AFC vs Sheffield Wednesday FC
URL:https://whenkickoff.com/en/match/swansea-city-afc-vs-sheffield-wednesday-fc-541081/
BEGIN:VALARM
TRIGGER:-PT15M
ACTION:DISPLAY
DESCRIPTION:Match starts soon
END:VALARM
END:VEVENT
END:VCALENDAR
