BEGIN:VCALENDAR
VERSION:2.0
PRODID:-//WhenKickoff//Match Reminder//EN
BEGIN:VEVENT
UID:wk-541075-15@whenkickoff.com
DTSTAMP:20260420T105426Z
DTSTART:20260207T123100Z
DTEND:20260207T143100Z
SUMMARY:Derby County FC vs Ipswich Town FC
DESCRIPTION:WhenKickoff reminder for Derby County FC vs Ipswich Town FC
URL:https://whenkickoff.com/en/match/derby-county-fc-vs-ipswich-town-fc-541075/
BEGIN:VALARM
TRIGGER:-PT15M
ACTION:DISPLAY
DESCRIPTION:Match starts soon
END:VALARM
END:VEVENT
END:VCALENDAR
