BEGIN:VCALENDAR
VERSION:2.0
PRODID:-//WhenKickoff//Match Reminder//EN
BEGIN:VEVENT
UID:wk-541074-15@whenkickoff.com
DTSTAMP:20260420T102907Z
DTSTART:20260207T150100Z
DTEND:20260207T170100Z
SUMMARY:Coventry City FC vs Oxford United FC
DESCRIPTION:WhenKickoff reminder for Coventry City FC vs Oxford United FC
URL:https://whenkickoff.com/en/match/coventry-city-fc-vs-oxford-united-fc-541074/
BEGIN:VALARM
TRIGGER:-PT15M
ACTION:DISPLAY
DESCRIPTION:Match starts soon
END:VALARM
END:VEVENT
END:VCALENDAR
