BEGIN:VCALENDAR
VERSION:2.0
PRODID:-//WhenKickoff//Match Reminder//EN
BEGIN:VEVENT
UID:wk-541072-15@whenkickoff.com
DTSTAMP:20260420T102908Z
DTSTART:20260207T150100Z
DTEND:20260207T170100Z
SUMMARY:Birmingham City FC vs Leicester City FC
DESCRIPTION:WhenKickoff reminder for Birmingham City FC vs Leicester City FC
URL:https://whenkickoff.com/en/match/birmingham-city-fc-vs-leicester-city-fc-541072/
BEGIN:VALARM
TRIGGER:-PT15M
ACTION:DISPLAY
DESCRIPTION:Match starts soon
END:VALARM
END:VEVENT
END:VCALENDAR
