BEGIN:VCALENDAR
VERSION:2.0
PRODID:-//WhenKickoff//Match Reminder//EN
BEGIN:VEVENT
UID:wk-541070-15@whenkickoff.com
DTSTAMP:20260420T140119Z
DTSTART:20260131T123000Z
DTEND:20260131T143000Z
SUMMARY:Stoke City FC vs Southampton FC
DESCRIPTION:WhenKickoff reminder for Stoke City FC vs Southampton FC
URL:https://whenkickoff.com/en/match/stoke-city-fc-vs-southampton-fc-541070/
BEGIN:VALARM
TRIGGER:-PT15M
ACTION:DISPLAY
DESCRIPTION:Match starts soon
END:VALARM
END:VEVENT
END:VCALENDAR
