BEGIN:VCALENDAR
VERSION:2.0
PRODID:-//WhenKickoff//Match Reminder//EN
BEGIN:VEVENT
UID:wk-541069-15@whenkickoff.com
DTSTAMP:20260420T134729Z
DTSTART:20260131T123000Z
DTEND:20260131T143000Z
SUMMARY:Sheffield Wednesday FC vs Wrexham AFC
DESCRIPTION:WhenKickoff reminder for Sheffield Wednesday FC vs Wrexham AFC
URL:https://whenkickoff.com/en/match/sheffield-wednesday-fc-vs-wrexham-afc-541069/
BEGIN:VALARM
TRIGGER:-PT15M
ACTION:DISPLAY
DESCRIPTION:Match starts soon
END:VALARM
END:VEVENT
END:VCALENDAR
