BEGIN:VCALENDAR
VERSION:2.0
PRODID:-//WhenKickoff//Match Reminder//EN
BEGIN:VEVENT
UID:wk-541068-15@whenkickoff.com
DTSTAMP:20260420T140120Z
DTSTART:20260131T150000Z
DTEND:20260131T170000Z
SUMMARY:Queens Park Rangers FC vs Coventry City FC
DESCRIPTION:WhenKickoff reminder for Queens Park Rangers FC vs Coventry City FC
URL:https://whenkickoff.com/en/match/queens-park-rangers-fc-vs-coventry-city-fc-541068/
BEGIN:VALARM
TRIGGER:-PT15M
ACTION:DISPLAY
DESCRIPTION:Match starts soon
END:VALARM
END:VEVENT
END:VCALENDAR
