BEGIN:VCALENDAR
VERSION:2.0
PRODID:-//WhenKickoff//Match Reminder//EN
BEGIN:VEVENT
UID:wk-541067-15@whenkickoff.com
DTSTAMP:20260420T140120Z
DTSTART:20260131T150000Z
DTEND:20260131T170000Z
SUMMARY:Portsmouth FC vs West Bromwich Albion FC
DESCRIPTION:WhenKickoff reminder for Portsmouth FC vs West Bromwich Albion FC
URL:https://whenkickoff.com/en/match/portsmouth-fc-vs-west-bromwich-albion-fc-541067/
BEGIN:VALARM
TRIGGER:-PT15M
ACTION:DISPLAY
DESCRIPTION:Match starts soon
END:VALARM
END:VEVENT
END:VCALENDAR
