BEGIN:VCALENDAR
VERSION:2.0
PRODID:-//WhenKickoff//Match Reminder//EN
BEGIN:VEVENT
UID:wk-541066-15@whenkickoff.com
DTSTAMP:20260420T140223Z
DTSTART:20260131T150000Z
DTEND:20260131T170000Z
SUMMARY:Oxford United FC vs Birmingham City FC
DESCRIPTION:WhenKickoff reminder for Oxford United FC vs Birmingham City FC
URL:https://whenkickoff.com/en/match/oxford-united-fc-vs-birmingham-city-fc-541066/
BEGIN:VALARM
TRIGGER:-PT15M
ACTION:DISPLAY
DESCRIPTION:Match starts soon
END:VALARM
END:VEVENT
END:VCALENDAR
