BEGIN:VCALENDAR
VERSION:2.0
PRODID:-//WhenKickoff//Match Reminder//EN
BEGIN:VEVENT
UID:wk-541065-15@whenkickoff.com
DTSTAMP:20260420T140053Z
DTSTART:20260131T150000Z
DTEND:20260131T170000Z
SUMMARY:Millwall FC vs Sheffield United FC
DESCRIPTION:WhenKickoff reminder for Millwall FC vs Sheffield United FC
URL:https://whenkickoff.com/en/match/millwall-fc-vs-sheffield-united-fc-541065/
BEGIN:VALARM
TRIGGER:-PT15M
ACTION:DISPLAY
DESCRIPTION:Match starts soon
END:VALARM
END:VEVENT
END:VCALENDAR
