BEGIN:VCALENDAR
VERSION:2.0
PRODID:-//WhenKickoff//Match Reminder//EN
BEGIN:VEVENT
UID:wk-541064-15@whenkickoff.com
DTSTAMP:20260420T140051Z
DTSTART:20260131T150000Z
DTEND:20260131T170000Z
SUMMARY:Middlesbrough FC vs Norwich City FC
DESCRIPTION:WhenKickoff reminder for Middlesbrough FC vs Norwich City FC
URL:https://whenkickoff.com/en/match/middlesbrough-fc-vs-norwich-city-fc-541064/
BEGIN:VALARM
TRIGGER:-PT15M
ACTION:DISPLAY
DESCRIPTION:Match starts soon
END:VALARM
END:VEVENT
END:VCALENDAR
