BEGIN:VCALENDAR
VERSION:2.0
PRODID:-//WhenKickoff//Match Reminder//EN
BEGIN:VEVENT
UID:wk-541063-15@whenkickoff.com
DTSTAMP:20260420T140052Z
DTSTART:20260131T123000Z
DTEND:20260131T143000Z
SUMMARY:Leicester City FC vs Charlton Athletic FC
DESCRIPTION:WhenKickoff reminder for Leicester City FC vs Charlton Athletic FC
URL:https://whenkickoff.com/en/match/leicester-city-fc-vs-charlton-athletic-fc-541063/
BEGIN:VALARM
TRIGGER:-PT15M
ACTION:DISPLAY
DESCRIPTION:Match starts soon
END:VALARM
END:VEVENT
END:VCALENDAR
