BEGIN:VCALENDAR
VERSION:2.0
PRODID:-//WhenKickoff//Match Reminder//EN
BEGIN:VEVENT
UID:wk-541062-15@whenkickoff.com
DTSTAMP:20260420T140223Z
DTSTART:20260131T150000Z
DTEND:20260131T170000Z
SUMMARY:Ipswich Town FC vs Preston North End FC
DESCRIPTION:WhenKickoff reminder for Ipswich Town FC vs Preston North End FC
URL:https://whenkickoff.com/en/match/ipswich-town-fc-vs-preston-north-end-fc-541062/
BEGIN:VALARM
TRIGGER:-PT15M
ACTION:DISPLAY
DESCRIPTION:Match starts soon
END:VALARM
END:VEVENT
END:VCALENDAR
