BEGIN:VCALENDAR
VERSION:2.0
PRODID:-//WhenKickoff//Match Reminder//EN
BEGIN:VEVENT
UID:wk-541060-15@whenkickoff.com
DTSTAMP:20260420T140118Z
DTSTART:20260131T150000Z
DTEND:20260131T170000Z
SUMMARY:Blackburn Rovers FC vs Hull City AFC
DESCRIPTION:WhenKickoff reminder for Blackburn Rovers FC vs Hull City AFC
URL:https://whenkickoff.com/en/match/blackburn-rovers-fc-vs-hull-city-afc-541060/
BEGIN:VALARM
TRIGGER:-PT15M
ACTION:DISPLAY
DESCRIPTION:Match starts soon
END:VALARM
END:VEVENT
END:VCALENDAR
