BEGIN:VCALENDAR
VERSION:2.0
PRODID:-//WhenKickoff//Match Reminder//EN
BEGIN:VEVENT
UID:wk-541059-15@whenkickoff.com
DTSTAMP:20260420T140118Z
DTSTART:20260124T150000Z
DTEND:20260124T170000Z
SUMMARY:Sheffield United FC vs Ipswich Town FC
DESCRIPTION:WhenKickoff reminder for Sheffield United FC vs Ipswich Town FC
URL:https://whenkickoff.com/en/match/sheffield-united-fc-vs-ipswich-town-fc-541059/
BEGIN:VALARM
TRIGGER:-PT15M
ACTION:DISPLAY
DESCRIPTION:Match starts soon
END:VALARM
END:VEVENT
END:VCALENDAR
