BEGIN:VCALENDAR
VERSION:2.0
PRODID:-//WhenKickoff//Match Reminder//EN
BEGIN:VEVENT
UID:wk-541058-15@whenkickoff.com
DTSTAMP:20260420T140119Z
DTSTART:20260124T150000Z
DTEND:20260124T170000Z
SUMMARY:Queens Park Rangers FC vs Wrexham AFC
DESCRIPTION:WhenKickoff reminder for Queens Park Rangers FC vs Wrexham AFC
URL:https://whenkickoff.com/en/match/queens-park-rangers-fc-vs-wrexham-afc-541058/
BEGIN:VALARM
TRIGGER:-PT15M
ACTION:DISPLAY
DESCRIPTION:Match starts soon
END:VALARM
END:VEVENT
END:VCALENDAR
