BEGIN:VCALENDAR
VERSION:2.0
PRODID:-//WhenKickoff//Match Reminder//EN
BEGIN:VEVENT
UID:wk-541057-15@whenkickoff.com
DTSTAMP:20260420T133358Z
DTSTART:20260125T120000Z
DTEND:20260125T140000Z
SUMMARY:Portsmouth FC vs Southampton FC
DESCRIPTION:WhenKickoff reminder for Portsmouth FC vs Southampton FC
URL:https://whenkickoff.com/en/match/portsmouth-fc-vs-southampton-fc-541057/
BEGIN:VALARM
TRIGGER:-PT15M
ACTION:DISPLAY
DESCRIPTION:Match starts soon
END:VALARM
END:VEVENT
END:VCALENDAR
