BEGIN:VCALENDAR
VERSION:2.0
PRODID:-//WhenKickoff//Match Reminder//EN
BEGIN:VEVENT
UID:wk-541056-15@whenkickoff.com
DTSTAMP:20260420T191912Z
DTSTART:20260126T200000Z
DTEND:20260126T220000Z
SUMMARY:Norwich City FC vs Coventry City FC
DESCRIPTION:WhenKickoff reminder for Norwich City FC vs Coventry City FC
URL:https://whenkickoff.com/en/match/norwich-city-fc-vs-coventry-city-fc-541056/
BEGIN:VALARM
TRIGGER:-PT15M
ACTION:DISPLAY
DESCRIPTION:Match starts soon
END:VALARM
END:VEVENT
END:VCALENDAR
