BEGIN:VCALENDAR
VERSION:2.0
PRODID:-//WhenKickoff//Match Reminder//EN
BEGIN:VEVENT
UID:wk-541055-15@whenkickoff.com
DTSTAMP:20260420T133358Z
DTSTART:20260124T123000Z
DTEND:20260124T143000Z
SUMMARY:Millwall FC vs Charlton Athletic FC
DESCRIPTION:WhenKickoff reminder for Millwall FC vs Charlton Athletic FC
URL:https://whenkickoff.com/en/match/millwall-fc-vs-charlton-athletic-fc-541055/
BEGIN:VALARM
TRIGGER:-PT15M
ACTION:DISPLAY
DESCRIPTION:Match starts soon
END:VALARM
END:VEVENT
END:VCALENDAR
