BEGIN:VCALENDAR
VERSION:2.0
PRODID:-//WhenKickoff//Match Reminder//EN
BEGIN:VEVENT
UID:wk-541054-15@whenkickoff.com
DTSTAMP:20260420T120435Z
DTSTART:20260124T123000Z
DTEND:20260124T143000Z
SUMMARY:Middlesbrough FC vs Preston North End FC
DESCRIPTION:WhenKickoff reminder for Middlesbrough FC vs Preston North End FC
URL:https://whenkickoff.com/en/match/middlesbrough-fc-vs-preston-north-end-fc-541054/
BEGIN:VALARM
TRIGGER:-PT15M
ACTION:DISPLAY
DESCRIPTION:Match starts soon
END:VALARM
END:VEVENT
END:VCALENDAR
