BEGIN:VCALENDAR
VERSION:2.0
PRODID:-//WhenKickoff//Match Reminder//EN
BEGIN:VEVENT
UID:wk-541053-15@whenkickoff.com
DTSTAMP:20260420T140051Z
DTSTART:20260124T150000Z
DTEND:20260124T170000Z
SUMMARY:Leicester City FC vs Oxford United FC
DESCRIPTION:WhenKickoff reminder for Leicester City FC vs Oxford United FC
URL:https://whenkickoff.com/en/match/leicester-city-fc-vs-oxford-united-fc-541053/
BEGIN:VALARM
TRIGGER:-PT15M
ACTION:DISPLAY
DESCRIPTION:Match starts soon
END:VALARM
END:VEVENT
END:VCALENDAR
