BEGIN:VCALENDAR
VERSION:2.0
PRODID:-//WhenKickoff//Match Reminder//EN
BEGIN:VEVENT
UID:wk-541052-15@whenkickoff.com
DTSTAMP:20260420T140052Z
DTSTART:20260124T150000Z
DTEND:20260124T170000Z
SUMMARY:Hull City AFC vs Swansea City AFC
DESCRIPTION:WhenKickoff reminder for Hull City AFC vs Swansea City AFC
URL:https://whenkickoff.com/en/match/hull-city-afc-vs-swansea-city-afc-541052/
BEGIN:VALARM
TRIGGER:-PT15M
ACTION:DISPLAY
DESCRIPTION:Match starts soon
END:VALARM
END:VEVENT
END:VCALENDAR
