BEGIN:VCALENDAR
VERSION:2.0
PRODID:-//WhenKickoff//Match Reminder//EN
BEGIN:VEVENT
UID:wk-541051-15@whenkickoff.com
DTSTAMP:20260420T140222Z
DTSTART:20260123T200000Z
DTEND:20260123T220000Z
SUMMARY:Derby County FC vs West Bromwich Albion FC
DESCRIPTION:WhenKickoff reminder for Derby County FC vs West Bromwich Albion FC
URL:https://whenkickoff.com/en/match/derby-county-fc-vs-west-bromwich-albion-fc-541051/
BEGIN:VALARM
TRIGGER:-PT15M
ACTION:DISPLAY
DESCRIPTION:Match starts soon
END:VALARM
END:VEVENT
END:VCALENDAR
