BEGIN:VCALENDAR
VERSION:2.0
PRODID:-//WhenKickoff//Match Reminder//EN
BEGIN:VEVENT
UID:wk-541050-15@whenkickoff.com
DTSTAMP:20260420T140121Z
DTSTART:20260124T150000Z
DTEND:20260124T170000Z
SUMMARY:Bristol City FC vs Sheffield Wednesday FC
DESCRIPTION:WhenKickoff reminder for Bristol City FC vs Sheffield Wednesday FC
URL:https://whenkickoff.com/en/match/bristol-city-fc-vs-sheffield-wednesday-fc-541050/
BEGIN:VALARM
TRIGGER:-PT15M
ACTION:DISPLAY
DESCRIPTION:Match starts soon
END:VALARM
END:VEVENT
END:VCALENDAR
