BEGIN:VCALENDAR
VERSION:2.0
PRODID:-//WhenKickoff//Match Reminder//EN
BEGIN:VEVENT
UID:wk-541049-15@whenkickoff.com
DTSTAMP:20260420T140121Z
DTSTART:20260124T150000Z
DTEND:20260124T170000Z
SUMMARY:Blackburn Rovers FC vs Watford FC
DESCRIPTION:WhenKickoff reminder for Blackburn Rovers FC vs Watford FC
URL:https://whenkickoff.com/en/match/blackburn-rovers-fc-vs-watford-fc-541049/
BEGIN:VALARM
TRIGGER:-PT15M
ACTION:DISPLAY
DESCRIPTION:Match starts soon
END:VALARM
END:VEVENT
END:VCALENDAR
