BEGIN:VCALENDAR
VERSION:2.0
PRODID:-//WhenKickoff//Match Reminder//EN
BEGIN:VEVENT
UID:wk-541048-15@whenkickoff.com
DTSTAMP:20260420T120336Z
DTSTART:20260124T150000Z
DTEND:20260124T170000Z
SUMMARY:Birmingham City FC vs Stoke City FC
DESCRIPTION:WhenKickoff reminder for Birmingham City FC vs Stoke City FC
URL:https://whenkickoff.com/en/match/birmingham-city-fc-vs-stoke-city-fc-541048/
BEGIN:VALARM
TRIGGER:-PT15M
ACTION:DISPLAY
DESCRIPTION:Match starts soon
END:VALARM
END:VEVENT
END:VCALENDAR
