BEGIN:VCALENDAR
VERSION:2.0
PRODID:-//WhenKickoff//Match Reminder//EN
BEGIN:VEVENT
UID:wk-541047-15@whenkickoff.com
DTSTAMP:20260420T081647Z
DTSTART:20260121T194500Z
DTEND:20260121T214500Z
SUMMARY:Watford FC vs Portsmouth FC
DESCRIPTION:WhenKickoff reminder for Watford FC vs Portsmouth FC
URL:https://whenkickoff.com/en/match/watford-fc-vs-portsmouth-fc-541047/
BEGIN:VALARM
TRIGGER:-PT15M
ACTION:DISPLAY
DESCRIPTION:Match starts soon
END:VALARM
END:VEVENT
END:VCALENDAR
