BEGIN:VCALENDAR
VERSION:2.0
PRODID:-//WhenKickoff//Match Reminder//EN
BEGIN:VEVENT
UID:wk-541046-15@whenkickoff.com
DTSTAMP:20260420T081647Z
DTSTART:20260121T200000Z
DTEND:20260121T220000Z
SUMMARY:Stoke City FC vs Middlesbrough FC
DESCRIPTION:WhenKickoff reminder for Stoke City FC vs Middlesbrough FC
URL:https://whenkickoff.com/en/match/stoke-city-fc-vs-middlesbrough-fc-541046/
BEGIN:VALARM
TRIGGER:-PT15M
ACTION:DISPLAY
DESCRIPTION:Match starts soon
END:VALARM
END:VEVENT
END:VCALENDAR
