BEGIN:VCALENDAR
VERSION:2.0
PRODID:-//WhenKickoff//Match Reminder//EN
BEGIN:VEVENT
UID:wk-541045-15@whenkickoff.com
DTSTAMP:20260420T081618Z
DTSTART:20260121T194500Z
DTEND:20260121T214500Z
SUMMARY:Southampton FC vs Sheffield United FC
DESCRIPTION:WhenKickoff reminder for Southampton FC vs Sheffield United FC
URL:https://whenkickoff.com/en/match/southampton-fc-vs-sheffield-united-fc-541045/
BEGIN:VALARM
TRIGGER:-PT15M
ACTION:DISPLAY
DESCRIPTION:Match starts soon
END:VALARM
END:VEVENT
END:VCALENDAR
