BEGIN:VCALENDAR
VERSION:2.0
PRODID:-//WhenKickoff//Match Reminder//EN
BEGIN:VEVENT
UID:wk-541044-15@whenkickoff.com
DTSTAMP:20260420T023947Z
DTSTART:20260120T194500Z
DTEND:20260120T214500Z
SUMMARY:Charlton Athletic FC vs Derby County FC
DESCRIPTION:WhenKickoff reminder for Charlton Athletic FC vs Derby County FC
URL:https://whenkickoff.com/en/match/charlton-athletic-fc-vs-derby-county-fc-541044/
BEGIN:VALARM
TRIGGER:-PT15M
ACTION:DISPLAY
DESCRIPTION:Match starts soon
END:VALARM
END:VEVENT
END:VCALENDAR
