BEGIN:VCALENDAR
VERSION:2.0
PRODID:-//WhenKickoff//Match Reminder//EN
BEGIN:VEVENT
UID:wk-541043-15@whenkickoff.com
DTSTAMP:20260420T024031Z
DTSTART:20260120T200000Z
DTEND:20260120T220000Z
SUMMARY:Wrexham AFC vs Leicester City FC
DESCRIPTION:WhenKickoff reminder for Wrexham AFC vs Leicester City FC
URL:https://whenkickoff.com/en/match/wrexham-afc-vs-leicester-city-fc-541043/
BEGIN:VALARM
TRIGGER:-PT15M
ACTION:DISPLAY
DESCRIPTION:Match starts soon
END:VALARM
END:VEVENT
END:VCALENDAR
