BEGIN:VCALENDAR
VERSION:2.0
PRODID:-//WhenKickoff//Match Reminder//EN
BEGIN:VEVENT
UID:wk-541042-15@whenkickoff.com
DTSTAMP:20260420T024031Z
DTSTART:20260120T194500Z
DTEND:20260120T214500Z
SUMMARY:West Bromwich Albion FC vs Norwich City FC
DESCRIPTION:WhenKickoff reminder for West Bromwich Albion FC vs Norwich City FC
URL:https://whenkickoff.com/en/match/west-bromwich-albion-fc-vs-norwich-city-fc-541042/
BEGIN:VALARM
TRIGGER:-PT15M
ACTION:DISPLAY
DESCRIPTION:Match starts soon
END:VALARM
END:VEVENT
END:VCALENDAR
