BEGIN:VCALENDAR
VERSION:2.0
PRODID:-//WhenKickoff//Match Reminder//EN
BEGIN:VEVENT
UID:wk-541041-15@whenkickoff.com
DTSTAMP:20260420T023946Z
DTSTART:20260120T194500Z
DTEND:20260120T214500Z
SUMMARY:Swansea City AFC vs Blackburn Rovers FC
DESCRIPTION:WhenKickoff reminder for Swansea City AFC vs Blackburn Rovers FC
URL:https://whenkickoff.com/en/match/swansea-city-afc-vs-blackburn-rovers-fc-541041/
BEGIN:VALARM
TRIGGER:-PT15M
ACTION:DISPLAY
DESCRIPTION:Match starts soon
END:VALARM
END:VEVENT
END:VCALENDAR
