BEGIN:VCALENDAR
VERSION:2.0
PRODID:-//WhenKickoff//Match Reminder//EN
BEGIN:VEVENT
UID:wk-541040-15@whenkickoff.com
DTSTAMP:20260420T023945Z
DTSTART:20260120T194500Z
DTEND:20260120T214500Z
SUMMARY:Sheffield Wednesday FC vs Birmingham City FC
DESCRIPTION:WhenKickoff reminder for Sheffield Wednesday FC vs Birmingham City FC
URL:https://whenkickoff.com/en/match/sheffield-wednesday-fc-vs-birmingham-city-fc-541040/
BEGIN:VALARM
TRIGGER:-PT15M
ACTION:DISPLAY
DESCRIPTION:Match starts soon
END:VALARM
END:VEVENT
END:VCALENDAR
