BEGIN:VCALENDAR
VERSION:2.0
PRODID:-//WhenKickoff//Match Reminder//EN
BEGIN:VEVENT
UID:wk-541038-15@whenkickoff.com
DTSTAMP:20260420T004421Z
DTSTART:20260120T194500Z
DTEND:20260120T214500Z
SUMMARY:Oxford United FC vs Queens Park Rangers FC
DESCRIPTION:WhenKickoff reminder for Oxford United FC vs Queens Park Rangers FC
URL:https://whenkickoff.com/en/match/oxford-united-fc-vs-queens-park-rangers-fc-541038/
BEGIN:VALARM
TRIGGER:-PT15M
ACTION:DISPLAY
DESCRIPTION:Match starts soon
END:VALARM
END:VEVENT
END:VCALENDAR
