BEGIN:VCALENDAR
VERSION:2.0
PRODID:-//WhenKickoff//Match Reminder//EN
BEGIN:VEVENT
UID:wk-541036-15@whenkickoff.com
DTSTAMP:20260420T035430Z
DTSTART:20260120T194500Z
DTEND:20260120T214500Z
SUMMARY:Coventry City FC vs Millwall FC
DESCRIPTION:WhenKickoff reminder for Coventry City FC vs Millwall FC
URL:https://whenkickoff.com/en/match/coventry-city-fc-vs-millwall-fc-541036/
BEGIN:VALARM
TRIGGER:-PT15M
ACTION:DISPLAY
DESCRIPTION:Match starts soon
END:VALARM
END:VEVENT
END:VCALENDAR
