BEGIN:VCALENDAR
VERSION:2.0
PRODID:-//WhenKickoff//Match Reminder//EN
BEGIN:VEVENT
UID:wk-541035-15@whenkickoff.com
DTSTAMP:20260420T023948Z
DTSTART:20260117T150000Z
DTEND:20260117T170000Z
SUMMARY:Wrexham AFC vs Norwich City FC
DESCRIPTION:WhenKickoff reminder for Wrexham AFC vs Norwich City FC
URL:https://whenkickoff.com/en/match/wrexham-afc-vs-norwich-city-fc-541035/
BEGIN:VALARM
TRIGGER:-PT15M
ACTION:DISPLAY
DESCRIPTION:Match starts soon
END:VALARM
END:VEVENT
END:VCALENDAR
