BEGIN:VCALENDAR
VERSION:2.0
PRODID:-//WhenKickoff//Match Reminder//EN
BEGIN:VEVENT
UID:wk-541034-15@whenkickoff.com
DTSTAMP:20260420T064000Z
DTSTART:20260116T200000Z
DTEND:20260116T220000Z
SUMMARY:West Bromwich Albion FC vs Middlesbrough FC
DESCRIPTION:WhenKickoff reminder for West Bromwich Albion FC vs Middlesbrough FC
URL:https://whenkickoff.com/en/match/west-bromwich-albion-fc-vs-middlesbrough-fc-541034/
BEGIN:VALARM
TRIGGER:-PT15M
ACTION:DISPLAY
DESCRIPTION:Match starts soon
END:VALARM
END:VEVENT
END:VCALENDAR
