BEGIN:VCALENDAR
VERSION:2.0
PRODID:-//WhenKickoff//Match Reminder//EN
BEGIN:VEVENT
UID:wk-541033-15@whenkickoff.com
DTSTAMP:20260420T024031Z
DTSTART:20260117T123000Z
DTEND:20260117T143000Z
SUMMARY:Watford FC vs Millwall FC
DESCRIPTION:WhenKickoff reminder for Watford FC vs Millwall FC
URL:https://whenkickoff.com/en/match/watford-fc-vs-millwall-fc-541033/
BEGIN:VALARM
TRIGGER:-PT15M
ACTION:DISPLAY
DESCRIPTION:Match starts soon
END:VALARM
END:VEVENT
END:VCALENDAR
