BEGIN:VCALENDAR
VERSION:2.0
PRODID:-//WhenKickoff//Match Reminder//EN
BEGIN:VEVENT
UID:wk-541029-15@whenkickoff.com
DTSTAMP:20260420T024032Z
DTSTART:20260117T150000Z
DTEND:20260117T170000Z
SUMMARY:Sheffield Wednesday FC vs Portsmouth FC
DESCRIPTION:WhenKickoff reminder for Sheffield Wednesday FC vs Portsmouth FC
URL:https://whenkickoff.com/en/match/sheffield-wednesday-fc-vs-portsmouth-fc-541029/
BEGIN:VALARM
TRIGGER:-PT15M
ACTION:DISPLAY
DESCRIPTION:Match starts soon
END:VALARM
END:VEVENT
END:VCALENDAR
